BEGIN:VCALENDAR
VERSION:2.0
PRODID:-//ChamberMaster//Event Calendar 2.0//EN
METHOD:PUBLISH
X-PUBLISHED-TTL:P3D
REFRESH-INTERVAL:P3D
CALSCALE:GREGORIAN
BEGIN:VEVENT
DTSTART:20230323T220000Z
DTEND:20230324T010000Z
X-MICROSOFT-CDO-ALLDAYEVENT:FALSE
SUMMARY:16th Annual Dream Builders Gala & Auction
DESCRIPTION:Grab your friends\, family\, and co-workers for a fun night out for a good cause!\n\n\n	Laugh and be dazzled by Jon Stetson\, America's Master Mentalist! Jon is the real-life inspiration for the hit CBS show 'The Mentalist." Read more about him here!\n	Sample delicious food from local restaurants that reflect Lowell's unique cultural identity! Enjoy some favorites or try something new from Eliu's Hole in the Wall\, Pinoy Eats\, Red's Kitchen & Catering\, Simply Khmer\, and YouthBuild!\n	Bid on exciting items during our silent AND live auctions! You bid\, we build! Our silent auction items are ONLY available at the event (not in our online auction) and our live auction items will wow you!\n\nIf you can't attend the event\, don't miss our ONLINE AUCTION from Monday\, March 20 - Sunday\, March 26! You can also make a donation here. \n\n\n\nAll proceeds support Habitat for Humanity of Greater Lowell expand affordable housing in our community and complete critical home repairs that allow local seniors and veterans remain in their homes. Thank you for your support!
X-ALT-DESC;FMTTYPE=text/html:<p><strong>Grab your friends\, family\, and co-workers for a fun night out for a good cause!</strong></p>\n\n<ul>\n	<li><strong>Laugh and be dazzled by Jon Stetson\, America&#39\;s Master Mentalist!&nbsp\;</strong>Jon is the real-life inspiration for the hit CBS show &#39\;The Mentalist.&quot\;&nbsp\;<a href="https://jonstetson.com/jon-stetson-bio" style="box-sizing: border-box\; margin: 0px\; padding: 0px\; border: 0px\; font-style: inherit\; font-variant: inherit\; font-weight: inherit\; font-stretch: inherit\; line-height: inherit\; font-family: inherit\; vertical-align: baseline\; color: rgb(56\, 89\, 136)\; text-decoration-line: none\; outline: 0px\; background-color: transparent\;">Read more about him here</a>!</li>\n	<li><strong>Sample delicious food from local restaurants that reflect Lowell&#39\;s unique cultural identity!</strong>&nbsp\;Enjoy some favorites or try something new from Eliu&#39\;s Hole in the Wall\, Pinoy Eats\, Red&#39\;s Kitchen &amp\; Catering\, Simply Khmer\, and YouthBuild!</li>\n	<li><strong>Bid on exciting items during our silent AND live auctions!</strong>&nbsp\;You bid\, we build! Our silent auction items are ONLY available at the event (not in our online auction) and our live auction items will wow you!</li>\n</ul>\nIf you can&#39\;t attend the event\, don&#39\;t miss our <strong>ONLINE AUCTION</strong>&nbsp\;from Monday\, March 20 - Sunday\, March 26! You can also <a href="https://lowellhabitat.ejoinme.org/MyEvents/16thAnnualDreamBuildersOnlineAuctionGala/MakeaDonation/tabid/1351026/Default.aspx">make a donation here</a>.&nbsp\;<br />\n<br />\nAll proceeds support Habitat for Humanity of Greater Lowell expand affordable housing in our community and complete critical home repairs that allow local seniors and veterans remain in their homes. Thank you for your support!
LOCATION:UTEC
UID:e.2282.6898
SEQUENCE:3
DTSTAMP:20260425T115400Z
URL:https://business.burlingtonchamberofcommerce.org/events/details/16th-annual-dream-builders-gala-auction-6898
END:VEVENT

END:VCALENDAR
