BEGIN:VCALENDAR
VERSION:2.0
PRODID:-//ChamberMaster//Event Calendar 2.0//EN
METHOD:PUBLISH
X-PUBLISHED-TTL:P3D
REFRESH-INTERVAL:P3D
CALSCALE:GREGORIAN
BEGIN:VEVENT
DTSTART:20250306T230000Z
DTEND:20250307T013000Z
X-MICROSOFT-CDO-ALLDAYEVENT:FALSE
SUMMARY:Exclusive Scotch Masterclass at Row 34
DESCRIPTION:Get to know Bruichladdich at an exclusive whisky masterclass at Row 34\, Burlington on Mar. 6th! Whether you're a seasoned sipper or just starting your whisky journey\, this guided tasting is your chance to explore the essence of Islay. \n\n\n\n\n\nJoin us for complex flavors\, unexpected twists\, and a deeper appreciation for the craft behind every pour.\n\nReserve Your Spot\n\n \n\n\n\nThe Tasting Lineup:\n\n- Classic Laddie\n\n- Islay Barley\n\n- Bruichladdich 18 Year\n\n- Port Charlotte 10 Year\n\n- Octomore
X-ALT-DESC;FMTTYPE=text/html:<div>\n<div>Get to know Bruichladdich at an exclusive whisky masterclass at Row 34\, Burlington on Mar. 6th! Whether you&#39\;re a seasoned sipper or just starting your whisky journey\, this guided tasting is your chance to explore the essence of Islay.&nbsp\;</div>\n</div>\n\n<div>\n<div><br />\nJoin us for complex flavors\, unexpected twists\, and a deeper appreciation for the craft behind every pour.<br />\n<a href="https://www.opentable.com/booking/experiences-availability?rid=346684&amp\;restref=346684&amp\;experienceId=430339&amp\;utm_source=opentable&amp\;utm_medium=tms_email&amp\;utm_campaign=shared">Reserve Your Spot</a><br />\n&nbsp\;</div>\n</div>\n\n<div>\n<div>The Tasting Lineup:</div>\n\n<div>- Classic Laddie</div>\n\n<div>- Islay Barley</div>\n\n<div>- Bruichladdich 18 Year</div>\n\n<div>- Port Charlotte 10 Year</div>\n\n<div>- Octomore</div>\n</div>\n
LOCATION:Row 34 Burlington
UID:e.2282.7940
SEQUENCE:3
DTSTAMP:20260424T111244Z
URL:https://business.burlingtonchamberofcommerce.org/events/details/exclusive-scotch-masterclass-at-row-34-7940
END:VEVENT

END:VCALENDAR
