BEGIN:VCALENDAR
VERSION:2.0
PRODID:-//ChamberMaster//Event Calendar 2.0//EN
METHOD:PUBLISH
X-PUBLISHED-TTL:P3D
REFRESH-INTERVAL:P3D
CALSCALE:GREGORIAN
BEGIN:VEVENT
DTSTART:20250316T190000Z
DTEND:20250316T200000Z
X-MICROSOFT-CDO-ALLDAYEVENT:FALSE
SUMMARY:Family Concert at Winchester Community Music School: Sol y Canto
DESCRIPTION:Sol y Canto is an award-winning Pan-Latin ensemble led by Puerto Rican/Argentine singer and percussionist Rosi Amador and New Mexican guitarist and composer Brian Amador. Featuring Rosi's crystalline voice and Brian's lush Spanish guitar and inventive compositions\, their original songs are distinguished by poetic\, often quirky lyrics set in a framework of varied musical styles with surprising twists. Come enjoy this dynamic performance for all ages!\n\n\n\n$5 general admission\n\nFor tickets and more information\, call 781-721-2950 or visit here. Advance purchase is recommended   tickets are often sold out by the day of the show.
X-ALT-DESC;FMTTYPE=text/html:<span style="font-size:14px\;"><span style="font-family:arial\;">Sol y Canto is an award-winning Pan-Latin ensemble led by Puerto Rican/Argentine singer and percussionist Rosi Amador and New Mexican guitarist and composer Brian Amador. Featuring Rosi&rsquo\;s crystalline voice and Brian&rsquo\;s lush Spanish guitar and inventive compositions\, their original songs are distinguished by poetic\, often quirky lyrics set in a framework of varied musical styles with surprising twists. Come enjoy this dynamic performance for all ages!<br />\n<br />\n$5 general admission<br />\nFor tickets and more information\, call 781-721-2950 or visit <a href="https://www.winchestermusic.org/event/family-concert-featuring-sol-y-canto/">here</a>. Advance purchase is recommended &ndash\; tickets are often sold out by the day of the show.</span></span>
LOCATION:Winchester Community Music School
UID:e.2282.7938
SEQUENCE:3
DTSTAMP:20260424T112506Z
URL:https://business.burlingtonchamberofcommerce.org/events/details/family-concert-at-winchester-community-music-school-sol-y-canto-7938
END:VEVENT

END:VCALENDAR
