BEGIN:VCALENDAR
VERSION:2.0
PRODID:-//ChamberMaster//Event Calendar 2.0//EN
METHOD:PUBLISH
X-PUBLISHED-TTL:P3D
REFRESH-INTERVAL:P3D
CALSCALE:GREGORIAN
BEGIN:VEVENT
DTSTART:20260124T160000Z
DTEND:20260124T200000Z
X-MICROSOFT-CDO-ALLDAYEVENT:FALSE
SUMMARY:Frozen High Tea at Inn at Hastings Park
DESCRIPTION:Get rid of the winter blues with a magical sweet treat for your little ones with Frozen High Tea at Town Meeting Bistro!\n\nReservations available from 11:00 am - 3:00 pm\n\n\n\nBook Now\n\n\n\nAdults $78 Includes Tea Tower with bites\, J'enwey tea service and one glass of champagne\n\nChildren (4-12 years of age) $35 Includes fun themed treats\, bites and tea or hot chocolate.\n\nChildren 3 and under eat for free but must notify if any are attending in the reservation\n\n\n\nEnhance your experience by dining in an INNgloo for an additional charge of $120.  Fee includes a $20 gratuity. Please contact the restaurant for INNgloo availability.\n\n\n\n*COSTUMES ARE EXTREMELY ENCOURAGED*
X-ALT-DESC;FMTTYPE=text/html:<p><span style="font-size:14px"><span style="font-family:arial\,helvetica\,sans-serif">Get rid of the winter blues with a magical sweet treat for your little ones with Frozen High Tea at Town Meeting Bistro!<br />\nReservations available from 11:00 am - 3:00 pm<br />\n<br />\n<a href="https://resy.com/cities/lexington-ma/venues/town-meeting-bistro/events/frozen-high-tea-2026-01-24?seats=2&amp\;date=2026-01-06">Book Now</a><br />\n<br />\nAdults $78 Includes Tea Tower with bites\, J&rsquo\;enwey tea service and one glass of champagne<br />\nChildren (4-12 years of age) $35 Includes fun themed treats\, bites and tea or hot chocolate.<br />\nChildren 3 and under eat for free but must notify if any are attending in the reservation<br />\n<br />\nEnhance your experience by dining in an INNgloo for an additional charge of $120. &nbsp\;Fee includes a $20 gratuity. Please contact the restaurant for INNgloo availability.<br />\n<br />\n*COSTUMES ARE EXTREMELY ENCOURAGED*</span></span></p>\n
LOCATION:Town Meeting Bistro Inn at Hastings Park
UID:e.2282.8580
SEQUENCE:3
DTSTAMP:20260424T012442Z
URL:https://business.burlingtonchamberofcommerce.org/events/details/frozen-high-tea-at-inn-at-hastings-park-8580
END:VEVENT

END:VCALENDAR
