BEGIN:VCALENDAR
VERSION:2.0
PRODID:-//ChamberMaster//Event Calendar 2.0//EN
METHOD:PUBLISH
X-PUBLISHED-TTL:P3D
REFRESH-INTERVAL:P3D
CALSCALE:GREGORIAN
BEGIN:VEVENT
DTSTART:20250408T213000Z
DTEND:20250408T233000Z
X-MICROSOFT-CDO-ALLDAYEVENT:FALSE
SUMMARY:Northern Bank Seminar: Planning for the Future with Estate Strategies & Trust Solutions
DESCRIPTION:Join Northern Bank for this complimentary seminar\, "Securing Legacies: Planning for the Future with Estate Strategies & Trust solutions."\n\n\n\nAvailable to anyone interested in bettering their financial literacy in estate planning and trust solutions.  \n\n\n\nFull Details & Registration\n\n\n\nKey topics covered in the seminar include:\n\n\n	Importance of Estate Planning\n	Multigenerational Planning\n	Key Questions for Legacy Planning\n	2025 Tax Exemptions & Gift Rules\n	Estate Tax Strategies\n	Advanced Estate Planning Tools
X-ALT-DESC;FMTTYPE=text/html:<p><span style="font-size:14px\;"><span style="font-family:arial\;">Join Northern Bank for this complimentary seminar\, &ldquo\;Securing Legacies: Planning for the Future with Estate Strategies &amp\; Trust solutions.&rdquo\;</span></span><br />\n<br />\n<span style="font-size:14px\;"><span style="font-family:arial\;">Available to anyone interested in bettering their financial literacy in estate planning and trust solutions.&nbsp\;&nbsp\;<br />\n<br />\n<a href="https://info.nbtc.com/securing-legacies-woburn">Full Details &amp\; Registration</a><br />\n<br />\nKey topics covered in the seminar include:</span></span></p>\n\n<ul>\n	<li><span style="font-size:14px\;"><span style="font-family:arial\;">Importance of Estate Planning</span></span></li>\n	<li><span style="font-size:14px\;"><span style="font-family:arial\;">Multigenerational Planning</span></span></li>\n	<li><span style="font-size:14px\;"><span style="font-family:arial\;">Key Questions for Legacy Planning</span></span></li>\n	<li><span style="font-size:14px\;"><span style="font-family:arial\;">2025 Tax Exemptions &amp\; Gift Rules</span></span></li>\n	<li><span style="font-size:14px\;"><span style="font-family:arial\;">Estate Tax Strategies</span></span></li>\n	<li><span style="font-size:14px\;"><span style="font-family:arial\;">Advanced Estate Planning Tools</span></span></li>\n</ul>\n
LOCATION:Northern Innov8
UID:e.2282.7961
SEQUENCE:3
DTSTAMP:20260424T101337Z
URL:https://business.burlingtonchamberofcommerce.org/events/details/northern-bank-seminar-planning-for-the-future-with-estate-strategies-trust-solutions-7961
END:VEVENT

END:VCALENDAR
