BEGIN:VCALENDAR
VERSION:2.0
PRODID:-//ChamberMaster//Event Calendar 2.0//EN
METHOD:PUBLISH
X-PUBLISHED-TTL:P3D
REFRESH-INTERVAL:P3D
CALSCALE:GREGORIAN
BEGIN:VEVENT
DTSTART:20250305T230000Z
DTEND:20250306T003000Z
X-MICROSOFT-CDO-ALLDAYEVENT:FALSE
SUMMARY:Spirits of Revolution Farm to Vine Dinner at The Inn at Hastings Park
DESCRIPTION:The Inn at Hastings Park\, Boston area's only Relais & Ch teaux property located in historic Lexington\, MA\, is in the revolutionary spirit! To celebrate the upcoming 250th anniversary of the start of the American Revolution\, this special dinner delves into the storied past of distilled spirits and the intersection of Boston's history\, craftsmanship and celebration! \n\n\n\nExecutive Chef Alissa Tsukakoshi crafts a delicious four-course Colonial-themed feast and Boston's Bully Boy Distillers will provide an overview of the who's who of the Revolutionary War and the distillers who made their mark on the young Republic through each course paired with a proprietary rum\, gin\, whiskey\, or craft-cocktail. \n\n\n\nBegins at 6 pm in a communal dining setting at Town Meeting Bistro. This dinner is for adults only\, 21+ / $150/person\, plus tax & gratuity. \n\n\n\nReserve your spot now!
X-ALT-DESC;FMTTYPE=text/html:<span style="font-size:14px\;"><span style="font-family:arial\;">The Inn at Hastings Park\, Boston area&#39\;s only Relais &amp\; Ch&acirc\;teaux property located in historic Lexington\, MA\, is in the revolutionary spirit! To celebrate the upcoming 250th anniversary of the start of the American Revolution\, this special<span style="color:#222222"> dinner delves into the storied past of distilled spirits and the intersection of Boston&rsquo\;s history\, craftsmanship and celebration!&nbsp\;<br />\n<br />\nExecutive Chef Alissa Tsukakoshi crafts a delicious four-course Colonial-themed feast and Boston&rsquo\;s Bully Boy Distillers will provide an overview&nbsp\;of the who&rsquo\;s who of the Revolutionary War and the distillers who made their mark on the young Republic through each course paired with a proprietary rum\, gin\, whiskey\, or craft-cocktail.&nbsp\;<br />\n<br />\nBegins at </span>6 pm in a communal dining setting at Town Meeting Bistro. This dinner is for adults only\, 21+ / $150/person<span style="color:black">\, plus tax &amp\; gratuity</span>.&nbsp\;<br />\n<br />\n<a href="https://www.innathastingspark.com/experience/featured-experiences-and-events/#!/e/spirit-of-the-revolution-farm-to-vine-dinner-featuring-bully-boy-distillers-march-5th-d655a966">Reserve your spot now!</a></span></span>
LOCATION:The Inn at Hastings Park | Town Meeting Bistro
UID:e.2282.7923
SEQUENCE:3
DTSTAMP:20260424T112108Z
URL:https://business.burlingtonchamberofcommerce.org/events/details/spirits-of-revolution-farm-to-vine-dinner-at-the-inn-at-hastings-park-7923
END:VEVENT

END:VCALENDAR
